BEGIN:VCALENDAR
VERSION:2.0
PRODID:Events Booking
BEGIN:VEVENT
UID:69ea57be133a5
SUMMARY:Beginner Handgun: May 9\, 2026 | Layton
DESCRIPTION:6 hours — Designed to establish fundamental techniques and kn
 owledge you need to be a safe and effective shooter\, and establish correc
 t habits that will set you up for success. You will learn how handguns fun
 ction\, safe handling\, loading and unloading\, how to grip your handgun\,
  proper body position and stance\, using your handgun's sights\, hitting y
 our target\, etc.
 This foundational course covers the fundamentals of ha
 ndgun shooting. If you are a first time handgun owner or unsure how to hol
 d your handgun\, load your magazine\, shoot what you are aiming at\, or ac
 t in the range\, this course is for you. We start in the classroom coverin
 g safety\, range etiquette and proper stance to hit your target. The rest 
 of the class will be on the range\, and you will shoot up to 150 rounds of
  ammunition. You will leave with the foundational knowledge so you can com
 e to the Handgun Proficiency class and feel prepared to learn additional s
 kills.
LOCATION:1995 Main St\, Layton\, UT 84041
DTSTART:20260509T093000Z
DTEND:20260509T160000Z
DTSTAMP:20260107T164652Z
ORGANIZER;CN=Nielsen Training and Consulting (NTAC):MAILTO:info@nielsentrai
 ning.com
GEO:41.088944;-112.000667
X-APPLE-STRUCTURED-LOCATION;VALUE=URI;X-ADDRESS=1995 Main St\, Layton\, UT 
 84041;X-APPLE-RADIUS=72;X-TITLE=Tactical Penguin\, Layton:41.088944;-112.0
 00667
END:VEVENT
END:VCALENDAR