BEGIN:VCALENDAR
VERSION:2.0
PRODID:Events Booking
BEGIN:VEVENT
UID:69ea91a151f36
SUMMARY:Beginner Rifle: Apr 28-29\, 2026 | Orem RG
DESCRIPTION:6 hours — Designed to establish fundamental techniques: how m
 odern sporting rifles or carbines function\, safe handling\, loading and u
 nloading\, how to hold your rifle\, proper body position and stance\, how 
 to set a zero using various rifle sights\, achieving consistent and accura
 te hits on your target\, etc.
 This course is designed to ensure you have
  an adequate foundation and understanding of safety\, handling\, and care\
 , along with a new level of confidence in your ability handle and shoot yo
 ur rifle. 
 This class will provide an environment where you can openly 
 ask questions about anything regarding your rifle. Others attending will b
 e novice and beginner shooters with limited experience\, the material cove
 red is designed to be non-threatening and move at a pace that allows you t
 o gain confidence and familiarity in your abilities.
LOCATION:1066 South State Street\, Orem UT 84097
DTSTART:20260428T173000Z
DTEND:20260429T203000Z
DTSTAMP:20260318T134308Z
ORGANIZER;CN=Nielsen Training and Consulting (NTAC):MAILTO:info@nielsentrai
 ning.com
GEO:40.277787;-111.685559
X-APPLE-STRUCTURED-LOCATION;VALUE=URI;X-ADDRESS=1066 South State Street\, O
 rem UT 84097;X-APPLE-RADIUS=72;X-TITLE=Ready Gunner\, Orem:40.277787;-111.
 685559
END:VEVENT
END:VCALENDAR