BEGIN:VCALENDAR
VERSION:2.0
PRODID:Events Booking
BEGIN:VEVENT
UID:69eaa3b2d1933
SUMMARY:Defensive Handgun: Jun 13\, 2026 | Tooele
DESCRIPTION:8 hours — Decision making\, legal and moral considerations\, 
 drawing from the holster with concealment\, body positions\, quick sight a
 cquisition\, firing from retention\, clearing malfunctions\, etc.
 Defens
 ive Handgun is our benchmark course and is highly recommended for individu
 als that have decided to carry a firearm for self-defense. Our professiona
 l staff will teach you modern handgun fighting techniques to effectively w
 in an armed encounter\, including drawing from the holster with concealmen
 t\, quick sight acquisition\, malfunction clearance\, retention fire\, and
  movement. We also discuss the legal and moral considerations of carrying 
 a firearm for self-defense.
LOCATION:952 N Main St\, Tooele\, UT 84074
DTSTART:20260613T093000Z
DTEND:20260613T180000Z
DTSTAMP:20260110T145217Z
ORGANIZER;CN=Nielsen Training and Consulting (NTAC):MAILTO:info@nielsentrai
 ning.com
GEO:40.310366;-111.723997
X-APPLE-STRUCTURED-LOCATION;VALUE=URI;X-ADDRESS=952 N Main St\, Tooele\, UT
  84074;X-APPLE-RADIUS=72;X-TITLE=Tactical Penguin\, Tooele:40.310366;-111.
 723997
END:VEVENT
END:VCALENDAR