BEGIN:VCALENDAR
VERSION:2.0
PRODID:Events Booking
BEGIN:VEVENT
UID:69ea7d62a5d07
SUMMARY:Defensive Rifle: May 30\, 2026 | Layton
DESCRIPTION:8 hours — How to zero your rifle\, fundamental rifle manipula
 tions\, managing recoil\, body positioning\, rifle presentation drills\, t
 arget acquisition\, follow-up shots for target transitions\, etc.
 It is 
 crucial that you understand the “Proper Use of Force” doctrine in your
  decision making process to defend yourself or others. This class will bui
 ld on the skills of Rifle Proficiency\, and our cadre will give you sugges
 tions to improve those skills. This class will have scenarios to expose yo
 u to real life events and help you to make split second decisions. 
LOCATION:1995 Main St\, Layton\, UT 84041
DTSTART:20260530T093000Z
DTEND:20260530T180000Z
DTSTAMP:20260107T165820Z
ORGANIZER;CN=Nielsen Training and Consulting (NTAC):MAILTO:info@nielsentrai
 ning.com
GEO:41.088944;-112.000667
X-APPLE-STRUCTURED-LOCATION;VALUE=URI;X-ADDRESS=1995 Main St\, Layton\, UT 
 84041;X-APPLE-RADIUS=72;X-TITLE=Tactical Penguin\, Layton:41.088944;-112.0
 00667
END:VEVENT
END:VCALENDAR