BEGIN:VCALENDAR
VERSION:2.0
PRODID:Events Booking
BEGIN:VEVENT
UID:69ea6b93bd577
SUMMARY:Defensive Rifle: Sep 16-17\, 2026 | Murray
DESCRIPTION:8 hours — How to zero your rifle\, fundamental rifle manipula
 tions\, managing recoil\, body positioning\, rifle presentation drills\, t
 arget acquisition\, follow-up shots for target transitions\, etc.
 It is 
 crucial that you understand the “Proper Use of Force” doctrine in your
  decision making process to defend yourself or others. This class will bui
 ld on the skills of Rifle Proficiency\, and our cadre will give you sugges
 tions to improve those skills. This class will have scenarios to expose yo
 u to real life events and help you to make split second decisions. 
LOCATION:6651 S State St\, Midvale\, UT 84047
DTSTART:20260916T170000Z
DTEND:20260917T210000Z
DTSTAMP:20260419T030532Z
ORGANIZER;CN=Nielsen Training and Consulting (NTAC):MAILTO:info@nielsentrai
 ning.com
GEO:40.629319;-111.888277
X-APPLE-STRUCTURED-LOCATION;VALUE=URI;X-ADDRESS=6651 S State St\, Midvale\,
  UT 84047;X-APPLE-RADIUS=72;X-TITLE=Tactical Penguin\, Murray:40.629319;-1
 11.888277
END:VEVENT
END:VCALENDAR