BEGIN:VCALENDAR
VERSION:2.0
PRODID:Events Booking
BEGIN:VEVENT
UID:69ea6933e4781
SUMMARY:Intro to Handgun: Aug 12\, 2026 | Tooele
DESCRIPTION:3 hours — For those who have never used a handgun before or h
 ave done it a few times but never had clear\, organized instruction on how
  to do it safely and correctly.
 If you have never used a handgun before 
 or have done it a few times but never had clear\, organized instruction on
  how to do it safely and correctly\, this is the class for you! This is th
 e best place to start if you have never shot before or have only shot with
  your friends but want to get a fundamental understanding of the shooting 
 sports. 
LOCATION:952 N Main St\, Tooele\, UT 84074
DTSTART:20260812T170000Z
DTEND:20260812T200000Z
DTSTAMP:20260418T021228Z
ORGANIZER;CN=Nielsen Training and Consulting (NTAC):MAILTO:info@nielsentrai
 ning.com
GEO:40.310366;-111.723997
X-APPLE-STRUCTURED-LOCATION;VALUE=URI;X-ADDRESS=952 N Main St\, Tooele\, UT
  84074;X-APPLE-RADIUS=72;X-TITLE=Tactical Penguin\, Tooele:40.310366;-111.
 723997
END:VEVENT
END:VCALENDAR