BEGIN:VCALENDAR
VERSION:2.0
PRODID:Events Booking
BEGIN:VEVENT
UID:69ea63bec3288
SUMMARY:Natural Point of Aim and Retention Fire (Skills Maintenance): Aug 1
 9\, 2026 | Tooele
DESCRIPTION:2.5 hours — How to safely and effectively fire your weapon fr
 om retention when you don't have time or space to utilize the sights.
 Th
 is skill builder class will help you to focus on developing and improving 
 your Natural Point of Aim (NPA and retention fire skills by utilizing dril
 ls that specifically require the use of multiple shooting positions. Natur
 al point of aim and retention fire are two defensive handgun techniques th
 at are often overlooked or even difficult to practice in traditional range
  settings.
LOCATION:952 N Main St\, Tooele\, UT 84074
DTSTART:20260819T180000Z
DTEND:20260819T203000Z
DTSTAMP:20260418T021701Z
ORGANIZER;CN=Nielsen Training and Consulting (NTAC):MAILTO:info@nielsentrai
 ning.com
GEO:40.310366;-111.723997
X-APPLE-STRUCTURED-LOCATION;VALUE=URI;X-ADDRESS=952 N Main St\, Tooele\, UT
  84074;X-APPLE-RADIUS=72;X-TITLE=Tactical Penguin\, Tooele:40.310366;-111.
 723997
END:VEVENT
END:VCALENDAR