BEGIN:VCALENDAR
VERSION:2.0
PRODID:Events Booking
BEGIN:VEVENT
UID:69ea785a5609e
SUMMARY:Natural Point of Aim and Retention Fire (Skills Maintenance): Jul 1
 8\, 2026 | Murray 
DESCRIPTION:2.5 hours — How to safely and effectively fire your weapon fr
 om retention when you don't have time or space to utilize the sights.
 Th
 is skill builder class will help you to focus on developing and improving 
 your Natural Point of Aim (NPA and retention fire skills by utilizing dril
 ls that specifically require the use of multiple shooting positions. Natur
 al point of aim and retention fire are two defensive handgun techniques th
 at are often overlooked or even difficult to practice in traditional range
  settings.
LOCATION:6651 S State St\, Midvale\, UT 84047
DTSTART:20260718T093000Z
DTEND:20260718T120000Z
DTSTAMP:20260413T213402Z
ORGANIZER;CN=Nielsen Training and Consulting (NTAC):MAILTO:info@nielsentrai
 ning.com
GEO:40.629319;-111.888277
X-APPLE-STRUCTURED-LOCATION;VALUE=URI;X-ADDRESS=6651 S State St\, Midvale\,
  UT 84047;X-APPLE-RADIUS=72;X-TITLE=Tactical Penguin\, Murray:40.629319;-1
 11.888277
END:VEVENT
END:VCALENDAR