BEGIN:VCALENDAR
VERSION:2.0
PRODID:Events Booking
BEGIN:VEVENT
UID:69eaa708deaff
SUMMARY:Utah CCW Concealed Firearms Permit Class: Jun 13\, 2026 | Orem KW
DESCRIPTION:4 hours — Everything that you need to apply for your Utah Con
 cealed Carry Firearm Permit (CFP)
 Your full-service\, one-stop option fo
 r everything that you need to apply for your Utah Concealed Firearm Permit
 . Multiple locations along the Wasatch Front. We even deliver the applicat
 ion to BCI for you! All at a best-value price that is lower than the avera
 ge price you will pay at other places.
LOCATION:998 1200 W\, Orem\, UT 84057
DTSTART:20260613T090000Z
DTEND:20260613T130000Z
DTSTAMP:20260423T165059Z
ORGANIZER;CN=Nielsen Training and Consulting (NTAC):MAILTO:info@nielsentrai
 ning.com
GEO:40.319255;-111.724817
X-APPLE-STRUCTURED-LOCATION;VALUE=URI;X-ADDRESS=998 1200 W\, Orem\, UT 8405
 7;X-APPLE-RADIUS=72;X-TITLE=Keller Williams\, Orem:40.319255;-111.724817
END:VEVENT
END:VCALENDAR